BEGIN:VCALENDAR
VERSION:2.0
PRODID:-//Bee&#039;s Backyard - ECPv5.1.4//NONSGML v1.0//EN
CALSCALE:GREGORIAN
METHOD:PUBLISH
X-WR-CALNAME:Bee&#039;s Backyard
X-ORIGINAL-URL:https://beesbackyard.com
X-WR-CALDESC:Events for Bee&#039;s Backyard
BEGIN:VTIMEZONE
TZID:America/New_York
BEGIN:DAYLIGHT
TZOFFSETFROM:-0500
TZOFFSETTO:-0400
TZNAME:EDT
DTSTART:20220313T070000
END:DAYLIGHT
BEGIN:STANDARD
TZOFFSETFROM:-0400
TZOFFSETTO:-0500
TZNAME:EST
DTSTART:20221106T060000
END:STANDARD
END:VTIMEZONE
BEGIN:VEVENT
DTSTART;VALUE=DATE:20221223
DTEND;VALUE=DATE:20221224
DTSTAMP:20260421T195546
CREATED:20221223T175621Z
LAST-MODIFIED:20221223T175621Z
UID:1909-1671753600-1671839999@beesbackyard.com
SUMMARY:CLOSING AT 2PM TODAY
DESCRIPTION:CLOSING AT 2PM DUE TO THE WEATHER. HAVE A HAPPY HEALTHY HOLIDAY WEEKEND. WE’LL SEE YOU NEXT WEEK! \n
URL:https://beesbackyard.com/event/closing-at-2pm-today/
END:VEVENT
END:VCALENDAR