BEGIN:VCALENDAR
VERSION:2.0
PRODID:-//Bee&#039;s Backyard - ECPv5.1.4//NONSGML v1.0//EN
CALSCALE:GREGORIAN
METHOD:PUBLISH
X-WR-CALNAME:Bee&#039;s Backyard
X-ORIGINAL-URL:https://beesbackyard.com
X-WR-CALDESC:Events for Bee&#039;s Backyard
BEGIN:VTIMEZONE
TZID:America/New_York
BEGIN:DAYLIGHT
TZOFFSETFROM:-0500
TZOFFSETTO:-0400
TZNAME:EDT
DTSTART:20220313T070000
END:DAYLIGHT
BEGIN:STANDARD
TZOFFSETFROM:-0400
TZOFFSETTO:-0500
TZNAME:EST
DTSTART:20221106T060000
END:STANDARD
END:VTIMEZONE
BEGIN:VEVENT
DTSTART;VALUE=DATE:20221124
DTEND;VALUE=DATE:20221125
DTSTAMP:20260421T193120
CREATED:20221124T131117Z
LAST-MODIFIED:20221124T131510Z
UID:1887-1669248000-1669334399@beesbackyard.com
SUMMARY:CLOSED TODAY\, HAPPY THANKSGIVING!!
DESCRIPTION:Closed Thursday the 24th for Thanksgiving! Enjoy your holiday\, and we’ll see you real soon! \n
URL:https://beesbackyard.com/event/closed-happy-thanksgiving/
END:VEVENT
END:VCALENDAR