BEGIN:VCALENDAR
VERSION:2.0
PRODID:-//Bee&#039;s Backyard - ECPv5.1.4//NONSGML v1.0//EN
CALSCALE:GREGORIAN
METHOD:PUBLISH
X-WR-CALNAME:Bee&#039;s Backyard
X-ORIGINAL-URL:https://beesbackyard.com
X-WR-CALDESC:Events for Bee&#039;s Backyard
BEGIN:VTIMEZONE
TZID:America/New_York
BEGIN:DAYLIGHT
TZOFFSETFROM:-0500
TZOFFSETTO:-0400
TZNAME:EDT
DTSTART:20210314T070000
END:DAYLIGHT
BEGIN:STANDARD
TZOFFSETFROM:-0400
TZOFFSETTO:-0500
TZNAME:EST
DTSTART:20211107T060000
END:STANDARD
END:VTIMEZONE
BEGIN:VEVENT
DTSTART;VALUE=DATE:20210518
DTEND;VALUE=DATE:20210519
DTSTAMP:20260423T080104
CREATED:20210517T162401Z
LAST-MODIFIED:20210517T162401Z
UID:1298-1621296000-1621382399@beesbackyard.com
SUMMARY:TUESDAY CLOSED
DESCRIPTION:
URL:https://beesbackyard.com/event/tuesday-closed/
END:VEVENT
END:VCALENDAR