BEGIN:VCALENDAR
VERSION:2.0
PRODID:-//Bee&#039;s Backyard - ECPv5.1.4//NONSGML v1.0//EN
CALSCALE:GREGORIAN
METHOD:PUBLISH
X-WR-CALNAME:Bee&#039;s Backyard
X-ORIGINAL-URL:https://beesbackyard.com
X-WR-CALDESC:Events for Bee&#039;s Backyard
BEGIN:VTIMEZONE
TZID:America/New_York
BEGIN:DAYLIGHT
TZOFFSETFROM:-0500
TZOFFSETTO:-0400
TZNAME:EDT
DTSTART:20210314T070000
END:DAYLIGHT
BEGIN:STANDARD
TZOFFSETFROM:-0400
TZOFFSETTO:-0500
TZNAME:EST
DTSTART:20211107T060000
END:STANDARD
END:VTIMEZONE
BEGIN:VEVENT
DTSTART;TZID=America/New_York:20210412T080000
DTEND;TZID=America/New_York:20210424T080000
DTSTAMP:20260426T025359
CREATED:20210411T221700Z
LAST-MODIFIED:20210423T004830Z
UID:1249-1618214400-1619251200@beesbackyard.com
SUMMARY:WE WILL BE CLOSED UNTIL 4/24 Look for exciting news to follow!!
DESCRIPTION:We will be closed until 4/24.  look for exciting news to follow! \n
URL:https://beesbackyard.com/event/we-will-be-closed-until-4-21-look-for-exciting-news-to-follow/
END:VEVENT
END:VCALENDAR