BEGIN:VCALENDAR
VERSION:2.0
PRODID:-//Bee&#039;s Backyard - ECPv5.1.4//NONSGML v1.0//EN
CALSCALE:GREGORIAN
METHOD:PUBLISH
X-WR-CALNAME:Bee&#039;s Backyard
X-ORIGINAL-URL:https://beesbackyard.com
X-WR-CALDESC:Events for Bee&#039;s Backyard
BEGIN:VTIMEZONE
TZID:America/New_York
BEGIN:DAYLIGHT
TZOFFSETFROM:-0500
TZOFFSETTO:-0400
TZNAME:EDT
DTSTART:20210314T070000
END:DAYLIGHT
BEGIN:STANDARD
TZOFFSETFROM:-0400
TZOFFSETTO:-0500
TZNAME:EST
DTSTART:20211107T060000
END:STANDARD
END:VTIMEZONE
BEGIN:VEVENT
DTSTART;VALUE=DATE:20210512
DTEND;VALUE=DATE:20210513
DTSTAMP:20260425T114547
CREATED:20210512T104955Z
LAST-MODIFIED:20210512T104955Z
UID:1288-1620777600-1620863999@beesbackyard.com
SUMMARY:WEDNESDAY HOURS 11AM-3:30PM
DESCRIPTION:WEDNESDAY HOURS 11AM-3:30PM \n
URL:https://beesbackyard.com/event/wednesday-hours-11am-330pm/
END:VEVENT
END:VCALENDAR