BEGIN:VCALENDAR
VERSION:2.0
PRODID:-//Bee&#039;s Backyard - ECPv5.1.4//NONSGML v1.0//EN
CALSCALE:GREGORIAN
METHOD:PUBLISH
X-WR-CALNAME:Bee&#039;s Backyard
X-ORIGINAL-URL:https://beesbackyard.com
X-WR-CALDESC:Events for Bee&#039;s Backyard
BEGIN:VTIMEZONE
TZID:America/New_York
BEGIN:DAYLIGHT
TZOFFSETFROM:-0500
TZOFFSETTO:-0400
TZNAME:EDT
DTSTART:20220313T070000
END:DAYLIGHT
BEGIN:STANDARD
TZOFFSETFROM:-0400
TZOFFSETTO:-0500
TZNAME:EST
DTSTART:20221106T060000
END:STANDARD
END:VTIMEZONE
BEGIN:VEVENT
DTSTART;VALUE=DATE:20220615
DTEND;VALUE=DATE:20220616
DTSTAMP:20260421T225732
CREATED:20220615T154435Z
LAST-MODIFIED:20220615T154435Z
UID:1741-1655251200-1655337599@beesbackyard.com
SUMMARY:WEDNESDAY HOURS 11AM-3:30 PM
DESCRIPTION:WEDNESDAY HOURS 11AM-3:30 PM \n
URL:https://beesbackyard.com/event/wednesday-hours-11am-330-pm/
END:VEVENT
END:VCALENDAR