BEGIN:VCALENDAR
VERSION:2.0
PRODID:-//Bee&#039;s Backyard - ECPv5.1.4//NONSGML v1.0//EN
CALSCALE:GREGORIAN
METHOD:PUBLISH
X-WR-CALNAME:Bee&#039;s Backyard
X-ORIGINAL-URL:https://beesbackyard.com
X-WR-CALDESC:Events for Bee&#039;s Backyard
BEGIN:VTIMEZONE
TZID:America/New_York
BEGIN:DAYLIGHT
TZOFFSETFROM:-0500
TZOFFSETTO:-0400
TZNAME:EDT
DTSTART:20210314T070000
END:DAYLIGHT
BEGIN:STANDARD
TZOFFSETFROM:-0400
TZOFFSETTO:-0500
TZNAME:EST
DTSTART:20211107T060000
END:STANDARD
END:VTIMEZONE
BEGIN:VEVENT
DTSTART;VALUE=DATE:20210411
DTEND;VALUE=DATE:20210412
DTSTAMP:20260426T025726
CREATED:20210405T120903Z
LAST-MODIFIED:20210405T171152Z
UID:1246-1618099200-1618185599@beesbackyard.com
SUMMARY:SUNDAY HOURS 12PM-5PM
DESCRIPTION:SUNDAY HOURS 12PM-5PM \n
URL:https://beesbackyard.com/event/sunday-hours-12pm-230pm/
END:VEVENT
END:VCALENDAR