BEGIN:VCALENDAR
VERSION:2.0
PRODID:-//Bee&#039;s Backyard - ECPv5.1.4//NONSGML v1.0//EN
CALSCALE:GREGORIAN
METHOD:PUBLISH
X-WR-CALNAME:Bee&#039;s Backyard
X-ORIGINAL-URL:https://beesbackyard.com
X-WR-CALDESC:Events for Bee&#039;s Backyard
BEGIN:VTIMEZONE
TZID:America/New_York
BEGIN:DAYLIGHT
TZOFFSETFROM:-0500
TZOFFSETTO:-0400
TZNAME:EDT
DTSTART:20240310T070000
END:DAYLIGHT
BEGIN:STANDARD
TZOFFSETFROM:-0400
TZOFFSETTO:-0500
TZNAME:EST
DTSTART:20241103T060000
END:STANDARD
END:VTIMEZONE
BEGIN:VEVENT
DTSTART;VALUE=DATE:20241213
DTEND;VALUE=DATE:20241214
DTSTAMP:20260422T101118
CREATED:20241213T153626Z
LAST-MODIFIED:20241213T153626Z
UID:2248-1734048000-1734134399@beesbackyard.com
SUMMARY:SANTA AND FRIENDS CHARACTER NIGHT TONIGHT!!
DESCRIPTION:Get ready for a magical night with Santa and friends here from 5:30pm-7:30pm! Bring the whole family for character meet-and-greets\, holiday fun\, and unforgettable memories. Don’t miss out on this holiday magic. $20 per child at the door. Parents are free!! \n
URL:https://beesbackyard.com/event/santa-and-friends-character-night-tonight/
END:VEVENT
END:VCALENDAR