BEGIN:VCALENDAR
VERSION:2.0
PRODID:-//Bee&#039;s Backyard - ECPv5.1.4//NONSGML v1.0//EN
CALSCALE:GREGORIAN
METHOD:PUBLISH
X-WR-CALNAME:Bee&#039;s Backyard
X-ORIGINAL-URL:https://beesbackyard.com
X-WR-CALDESC:Events for Bee&#039;s Backyard
BEGIN:VTIMEZONE
TZID:America/New_York
BEGIN:DAYLIGHT
TZOFFSETFROM:-0500
TZOFFSETTO:-0400
TZNAME:EDT
DTSTART:20220313T070000
END:DAYLIGHT
BEGIN:STANDARD
TZOFFSETFROM:-0400
TZOFFSETTO:-0500
TZNAME:EST
DTSTART:20221106T060000
END:STANDARD
END:VTIMEZONE
BEGIN:VEVENT
DTSTART;VALUE=DATE:20220204
DTEND;VALUE=DATE:20220205
DTSTAMP:20260422T053305
CREATED:20220204T135049Z
LAST-MODIFIED:20220204T210637Z
UID:1615-1643932800-1644019199@beesbackyard.com
SUMMARY:CLOSING TODAY AT 6PM DUE TO WEATHER
DESCRIPTION:CLOSING TODAY AT 6PM DUE TO WEATHER. We apologize for any inconvenience this may cause. Please drive safe\, and we look forward to seeing you again real soon. \n
URL:https://beesbackyard.com/event/opening-today-at-1pm-due-to-weather/
END:VEVENT
END:VCALENDAR