BEGIN:VCALENDAR
VERSION:2.0
PRODID:-//Bee&#039;s Backyard - ECPv5.1.4//NONSGML v1.0//EN
CALSCALE:GREGORIAN
METHOD:PUBLISH
X-WR-CALNAME:Bee&#039;s Backyard
X-ORIGINAL-URL:https://beesbackyard.com
X-WR-CALDESC:Events for Bee&#039;s Backyard
BEGIN:VTIMEZONE
TZID:America/New_York
BEGIN:DAYLIGHT
TZOFFSETFROM:-0500
TZOFFSETTO:-0400
TZNAME:EDT
DTSTART:20230312T070000
END:DAYLIGHT
BEGIN:STANDARD
TZOFFSETFROM:-0400
TZOFFSETTO:-0500
TZNAME:EST
DTSTART:20231105T060000
END:STANDARD
END:VTIMEZONE
BEGIN:VEVENT
DTSTART;VALUE=DATE:20231231
DTEND;VALUE=DATE:20240101
DTSTAMP:20260422T130059
CREATED:20231230T161638Z
LAST-MODIFIED:20231230T161638Z
UID:2115-1703980800-1704067199@beesbackyard.com
SUMMARY:CLOSED NEW YEARS EVE 12/31 - OPEN NEW YEARS DAY 1/1
DESCRIPTION:CLOSED NEW YEARS EVE 12/31 – OPEN NEW YEARS DAY 1/1 \n
URL:https://beesbackyard.com/event/closed-new-years-eve-12-31-open-new-years-day-1-1/
END:VEVENT
END:VCALENDAR